BEGIN:VCALENDAR
VERSION:2.0
PRODID:-//Musikverein Haltingen 1908 e.V. - ECPv6.15.15//NONSGML v1.0//EN
CALSCALE:GREGORIAN
METHOD:PUBLISH
X-WR-CALNAME:Musikverein Haltingen 1908 e.V.
X-ORIGINAL-URL:https://musikverein-haltingen.de
X-WR-CALDESC:Veranstaltungen für Musikverein Haltingen 1908 e.V.
REFRESH-INTERVAL;VALUE=DURATION:PT1H
X-Robots-Tag:noindex
X-PUBLISHED-TTL:PT1H
BEGIN:VTIMEZONE
TZID:Europe/Berlin
BEGIN:DAYLIGHT
TZOFFSETFROM:+0100
TZOFFSETTO:+0200
TZNAME:CEST
DTSTART:20250330T010000
END:DAYLIGHT
BEGIN:STANDARD
TZOFFSETFROM:+0200
TZOFFSETTO:+0100
TZNAME:CET
DTSTART:20251026T010000
END:STANDARD
BEGIN:DAYLIGHT
TZOFFSETFROM:+0100
TZOFFSETTO:+0200
TZNAME:CEST
DTSTART:20260329T010000
END:DAYLIGHT
BEGIN:STANDARD
TZOFFSETFROM:+0200
TZOFFSETTO:+0100
TZNAME:CET
DTSTART:20261025T010000
END:STANDARD
BEGIN:DAYLIGHT
TZOFFSETFROM:+0100
TZOFFSETTO:+0200
TZNAME:CEST
DTSTART:20270328T010000
END:DAYLIGHT
BEGIN:STANDARD
TZOFFSETFROM:+0200
TZOFFSETTO:+0100
TZNAME:CET
DTSTART:20271031T010000
END:STANDARD
BEGIN:DAYLIGHT
TZOFFSETFROM:+0100
TZOFFSETTO:+0200
TZNAME:CEST
DTSTART:20280326T010000
END:DAYLIGHT
BEGIN:STANDARD
TZOFFSETFROM:+0200
TZOFFSETTO:+0100
TZNAME:CET
DTSTART:20281029T010000
END:STANDARD
END:VTIMEZONE
BEGIN:VEVENT
DTSTART;TZID=Europe/Berlin:20260424T193000
DTEND;TZID=Europe/Berlin:20260424T213000
DTSTAMP:20260420T025808
CREATED:20250915T151052Z
LAST-MODIFIED:20260301T194912Z
UID:1019-1777059000-1777066200@musikverein-haltingen.de
SUMMARY:Generalprobe Frühjahrskonzert
DESCRIPTION:
URL:https://musikverein-haltingen.de/event/generalprobe-fruehjahrskonzert/
LOCATION:Evangelische Kirche Haltingen
CATEGORIES:Sonstiges
END:VEVENT
BEGIN:VEVENT
DTSTART;TZID=Europe/Berlin:20260426T170000
DTEND;TZID=Europe/Berlin:20260426T190000
DTSTAMP:20260420T025808
CREATED:20250915T151142Z
LAST-MODIFIED:20260301T195014Z
UID:1021-1777222800-1777230000@musikverein-haltingen.de
SUMMARY:Frühjahrskonzert
DESCRIPTION:
URL:https://musikverein-haltingen.de/event/fruehjahrskonzert/
LOCATION:Evangelische Kirche Haltingen
CATEGORIES:Veranstaltung
END:VEVENT
BEGIN:VEVENT
DTSTART;TZID=Europe/Berlin:20260430T180000
DTEND;TZID=Europe/Berlin:20260430T183000
DTSTAMP:20260420T025808
CREATED:20250915T151533Z
LAST-MODIFIED:20250915T152059Z
UID:1024-1777572000-1777573800@musikverein-haltingen.de
SUMMARY:Maibaum stellen (mit Stadtmusik Weil am Rhein)
DESCRIPTION:
URL:https://musikverein-haltingen.de/event/maibaum-stellen-mit-stadtmusik-weil-am-rhein/
LOCATION:Märkt Brandweiher\, Weil - Märkt\, 79576\, Germany
CATEGORIES:Auftritt
END:VEVENT
BEGIN:VEVENT
DTSTART;TZID=Europe/Berlin:20260509T100000
DTEND;TZID=Europe/Berlin:20260509T170000
DTSTAMP:20260420T025808
CREATED:20260101T172627Z
LAST-MODIFIED:20260101T172627Z
UID:4087-1778320800-1778346000@musikverein-haltingen.de
SUMMARY:Wirten bei Musikschulfest
DESCRIPTION:
URL:https://musikverein-haltingen.de/event/wirten-bei-musikschulfest/
LOCATION:Altes Rathaus Weil am Rhein\, Hinterdorfstraße\, Weil am Rhein
CATEGORIES:Sonstiges
END:VEVENT
BEGIN:VEVENT
DTSTART;TZID=Europe/Berlin:20260607T100000
DTEND;TZID=Europe/Berlin:20260607T120000
DTSTAMP:20260420T025808
CREATED:20260317T213428Z
LAST-MODIFIED:20260317T213540Z
UID:4263-1780826400-1780833600@musikverein-haltingen.de
SUMMARY:Fronleichnam
DESCRIPTION:
URL:https://musikverein-haltingen.de/event/fronleichnam/
LOCATION:Katholische Kirche Haltingen
CATEGORIES:Auftritt
END:VEVENT
BEGIN:VEVENT
DTSTART;TZID=Europe/Berlin:20260711T130000
DTEND;TZID=Europe/Berlin:20260711T140000
DTSTAMP:20260420T025808
CREATED:20260325T164139Z
LAST-MODIFIED:20260325T164139Z
UID:4283-1783774800-1783778400@musikverein-haltingen.de
SUMMARY:100 Jahre KIGA Markgräflerstraße
DESCRIPTION:
URL:https://musikverein-haltingen.de/event/100-jahre-kiga-markgraeflerstrasse/
CATEGORIES:Auftritt
END:VEVENT
BEGIN:VEVENT
DTSTART;TZID=Europe/Berlin:20260719T113000
DTEND;TZID=Europe/Berlin:20260719T133000
DTSTAMP:20260420T025808
CREATED:20260127T154956Z
LAST-MODIFIED:20260127T154956Z
UID:4150-1784460600-1784467800@musikverein-haltingen.de
SUMMARY:Gründungshock Eimeldingen
DESCRIPTION:
URL:https://musikverein-haltingen.de/event/gruendungshock-eimeldingen/
LOCATION:Haus der Begegnung Eimeldingen
CATEGORIES:Auftritt
END:VEVENT
BEGIN:VEVENT
DTSTART;TZID=Europe/Berlin:20260721T190000
DTEND;TZID=Europe/Berlin:20260721T203000
DTSTAMP:20260420T025808
CREATED:20250915T151809Z
LAST-MODIFIED:20250915T151809Z
UID:1029-1784660400-1784665800@musikverein-haltingen.de
SUMMARY:Offene Probe
DESCRIPTION:
URL:https://musikverein-haltingen.de/event/offene-probe/
LOCATION:Alte Schule Haltingen\, Wilhelm-Glock-Straße 11\, Weil-Haltingen\, 79576\, Germany
CATEGORIES:Veranstaltung
END:VEVENT
BEGIN:VEVENT
DTSTART;TZID=Europe/Berlin:20260728T170000
DTEND;TZID=Europe/Berlin:20260728T230000
DTSTAMP:20260420T025808
CREATED:20260325T163927Z
LAST-MODIFIED:20260325T163927Z
UID:4280-1785258000-1785279600@musikverein-haltingen.de
SUMMARY:Wirten bei Aufführung der Kulissenbürzler
DESCRIPTION:
URL:https://musikverein-haltingen.de/event/wirten-bei-auffuehrung-der-kulissenbuerzler/
LOCATION:Gasthaus Hirschen Haltingen\, Grosse Gass\, Weil am Rhein Haltingen
CATEGORIES:Sonstiges
END:VEVENT
BEGIN:VEVENT
DTSTART;VALUE=DATE:20260801
DTEND;VALUE=DATE:20260907
DTSTAMP:20260420T025808
CREATED:20250915T151857Z
LAST-MODIFIED:20260325T163700Z
UID:1034-1785542400-1788739199@musikverein-haltingen.de
SUMMARY:Sommerpause
DESCRIPTION:
URL:https://musikverein-haltingen.de/event/sommerpause/
CATEGORIES:Sonstiges
END:VEVENT
BEGIN:VEVENT
DTSTART;TZID=Europe/Berlin:20260908T193000
DTEND;TZID=Europe/Berlin:20260908T213000
DTSTAMP:20260420T025808
CREATED:20250915T152431Z
LAST-MODIFIED:20250915T152431Z
UID:1036-1788895800-1788903000@musikverein-haltingen.de
SUMMARY:1. Probe nach den Ferien - Aktivorchester
DESCRIPTION:
URL:https://musikverein-haltingen.de/event/1-probe-nach-den-ferien-aktivorchester-2/
LOCATION:Festhalle Haltingen
CATEGORIES:Sonstiges
END:VEVENT
BEGIN:VEVENT
DTSTART;TZID=Europe/Berlin:20260915T180000
DTEND;TZID=Europe/Berlin:20260915T190000
DTSTAMP:20260420T025808
CREATED:20250915T152525Z
LAST-MODIFIED:20250915T152525Z
UID:1038-1789495200-1789498800@musikverein-haltingen.de
SUMMARY:1. Probe nach den Ferien - Jugendorchester
DESCRIPTION:
URL:https://musikverein-haltingen.de/event/1-probe-nach-den-ferien-jugendorchester-2/
LOCATION:Festhalle Haltingen
CATEGORIES:Jugend
END:VEVENT
BEGIN:VEVENT
DTSTART;TZID=Europe/Berlin:20260920T113000
DTEND;TZID=Europe/Berlin:20260920T133000
DTSTAMP:20260420T025808
CREATED:20250915T152636Z
LAST-MODIFIED:20250915T152636Z
UID:1040-1789903800-1789911000@musikverein-haltingen.de
SUMMARY:Winzerfest
DESCRIPTION:
URL:https://musikverein-haltingen.de/event/winzerfest/
LOCATION:Winzergenossenschaft Haltingen
CATEGORIES:Auftritt
END:VEVENT
BEGIN:VEVENT
DTSTART;TZID=Europe/Berlin:20261024T100000
DTEND;TZID=Europe/Berlin:20261024T180000
DTSTAMP:20260420T025808
CREATED:20260325T164248Z
LAST-MODIFIED:20260325T164248Z
UID:4285-1792836000-1792864800@musikverein-haltingen.de
SUMMARY:Verkaufsstand
DESCRIPTION:
URL:https://musikverein-haltingen.de/event/verkaufsstand/
LOCATION:Hornbach Binzen
CATEGORIES:Sonstiges
END:VEVENT
BEGIN:VEVENT
DTSTART;TZID=Europe/Berlin:20261115T104500
DTEND;TZID=Europe/Berlin:20261115T113000
DTSTAMP:20260420T025808
CREATED:20250915T152735Z
LAST-MODIFIED:20250915T152735Z
UID:1042-1794739500-1794742200@musikverein-haltingen.de
SUMMARY:Volkstrauertag
DESCRIPTION:
URL:https://musikverein-haltingen.de/event/volkstrauertag-2/
LOCATION:Evangelische Kirche Haltingen
CATEGORIES:Auftritt
END:VEVENT
BEGIN:VEVENT
DTSTART;TZID=Europe/Berlin:20261204T193000
DTEND;TZID=Europe/Berlin:20261204T213000
DTSTAMP:20260420T025808
CREATED:20250915T152919Z
LAST-MODIFIED:20250915T152919Z
UID:1044-1796412600-1796419800@musikverein-haltingen.de
SUMMARY:Generalprobe Jahreskonzert
DESCRIPTION:
URL:https://musikverein-haltingen.de/event/generalprobe-jahreskonzert-2/
LOCATION:Festhalle Haltingen
CATEGORIES:Sonstiges
END:VEVENT
BEGIN:VEVENT
DTSTART;TZID=Europe/Berlin:20261205T190000
DTEND;TZID=Europe/Berlin:20261205T233000
DTSTAMP:20260420T025808
CREATED:20250915T153011Z
LAST-MODIFIED:20250915T153011Z
UID:1046-1796497200-1796513400@musikverein-haltingen.de
SUMMARY:Jahreskonzert
DESCRIPTION:
URL:https://musikverein-haltingen.de/event/jahreskonzert-2/
LOCATION:Festhalle Haltingen
CATEGORIES:Veranstaltung
END:VEVENT
BEGIN:VEVENT
DTSTART;TZID=Europe/Berlin:20261220T180000
DTEND;TZID=Europe/Berlin:20261220T190000
DTSTAMP:20260420T025808
CREATED:20250915T153148Z
LAST-MODIFIED:20250915T153148Z
UID:1048-1797789600-1797793200@musikverein-haltingen.de
SUMMARY:Weihnachtslieder spielen
DESCRIPTION:
URL:https://musikverein-haltingen.de/event/weihnachtslieder-spielen-2/
LOCATION:Evangelische Kirche Haltingen
CATEGORIES:Jugend
END:VEVENT
BEGIN:VEVENT
DTSTART;TZID=Europe/Berlin:20270112T180000
DTEND;TZID=Europe/Berlin:20270112T190000
DTSTAMP:20260420T025808
CREATED:20250915T153402Z
LAST-MODIFIED:20250915T153402Z
UID:1052-1799776800-1799780400@musikverein-haltingen.de
SUMMARY:1. Probe in 2027 - Jugendorchester
DESCRIPTION:
URL:https://musikverein-haltingen.de/event/1-probe-in-2027-jugendorchester/
LOCATION:Festhalle Haltingen
CATEGORIES:Jugend
END:VEVENT
BEGIN:VEVENT
DTSTART;TZID=Europe/Berlin:20270112T193000
DTEND;TZID=Europe/Berlin:20270112T213000
DTSTAMP:20260420T025808
CREATED:20250915T153313Z
LAST-MODIFIED:20250915T153313Z
UID:1050-1799782200-1799789400@musikverein-haltingen.de
SUMMARY:1. Probe in 2027 - Aktivorchester
DESCRIPTION:
URL:https://musikverein-haltingen.de/event/1-probe-in-2027-aktivorchester/
LOCATION:Festhalle Haltingen
CATEGORIES:Sonstiges
END:VEVENT
BEGIN:VEVENT
DTSTART;TZID=Europe/Berlin:20270126T200000
DTEND;TZID=Europe/Berlin:20270126T210000
DTSTAMP:20260420T025808
CREATED:20250915T153503Z
LAST-MODIFIED:20250915T153503Z
UID:1054-1800993600-1800997200@musikverein-haltingen.de
SUMMARY:Generalversammlung
DESCRIPTION:
URL:https://musikverein-haltingen.de/event/generalversammlung-2/
LOCATION:Festhalle Haltingen
CATEGORIES:Vorstandssitzung
END:VEVENT
END:VCALENDAR